BEGIN:VCALENDAR
VERSION:2.0
PRODID:-//Vermont Auto Enthusiasts - ECPv6.15.20//NONSGML v1.0//EN
CALSCALE:GREGORIAN
METHOD:PUBLISH
X-WR-CALNAME:Vermont Auto Enthusiasts
X-ORIGINAL-URL:https://vtauto.org
X-WR-CALDESC:Events for Vermont Auto Enthusiasts
REFRESH-INTERVAL;VALUE=DURATION:PT1H
X-Robots-Tag:noindex
X-PUBLISHED-TTL:PT1H
BEGIN:VTIMEZONE
TZID:America/New_York
BEGIN:DAYLIGHT
TZOFFSETFROM:-0500
TZOFFSETTO:-0400
TZNAME:EDT
DTSTART:20240310T070000
END:DAYLIGHT
BEGIN:STANDARD
TZOFFSETFROM:-0400
TZOFFSETTO:-0500
TZNAME:EST
DTSTART:20241103T060000
END:STANDARD
BEGIN:DAYLIGHT
TZOFFSETFROM:-0500
TZOFFSETTO:-0400
TZNAME:EDT
DTSTART:20250309T070000
END:DAYLIGHT
BEGIN:STANDARD
TZOFFSETFROM:-0400
TZOFFSETTO:-0500
TZNAME:EST
DTSTART:20251102T060000
END:STANDARD
BEGIN:DAYLIGHT
TZOFFSETFROM:-0500
TZOFFSETTO:-0400
TZNAME:EDT
DTSTART:20260308T070000
END:DAYLIGHT
BEGIN:STANDARD
TZOFFSETFROM:-0400
TZOFFSETTO:-0500
TZNAME:EST
DTSTART:20261101T060000
END:STANDARD
END:VTIMEZONE
BEGIN:VEVENT
DTSTART;TZID=America/New_York:20251119T190000
DTEND;TZID=America/New_York:20251119T210000
DTSTAMP:20260422T155711
CREATED:20241112T013830Z
LAST-MODIFIED:20250222T161152Z
UID:8302-1763578800-1763586000@vtauto.org
SUMMARY:VT Antique & Classic Car Meet Committee Meeting
DESCRIPTION:Revitalizing Waterbury 46 So. Main Street\, Waterbury\, VT\, United States \n\n\n\n3rd Wednesday of each month at 7PM at Revitalizing Waterbury\, 46 So. Main Street\, Waterbury\, VT. Co-chairmen: Duane Leach & Bob Chase. 
URL:https://vtauto.org/event/vt-antique-classic-car-meet-committee-meeting-20/
LOCATION:Revitalizing Waterbury\, 46 So. Main Street\, Waterbury\, VT\, 05676\, United States
CATEGORIES:VAE Events
END:VEVENT
END:VCALENDAR